BEGIN:VCALENDAR
VERSION:2.0
PRODID:-//Art Craft Cafe - ECPv6.15.20//NONSGML v1.0//EN
CALSCALE:GREGORIAN
METHOD:PUBLISH
X-WR-CALNAME:Art Craft Cafe
X-ORIGINAL-URL:https://artcraftcafe.com
X-WR-CALDESC:Events for Art Craft Cafe
REFRESH-INTERVAL;VALUE=DURATION:PT1H
X-Robots-Tag:noindex
X-PUBLISHED-TTL:PT1H
BEGIN:VTIMEZONE
TZID:UTC
BEGIN:STANDARD
TZOFFSETFROM:+0000
TZOFFSETTO:+0000
TZNAME:UTC
DTSTART:20180101T000000
END:STANDARD
END:VTIMEZONE
BEGIN:VEVENT
DTSTART;TZID=UTC:20210402T180000
DTEND;TZID=UTC:20210402T200000
DTSTAMP:20260425T190325
CREATED:20210312T133305Z
LAST-MODIFIED:20210329T170118Z
UID:268-1617386400-1617393600@artcraftcafe.com
SUMMARY:Sip and Paint
DESCRIPTION:Come Sip and Paint with us every Friday @ Art Craft Cafe St Maarten. Great drinks\, pretty colors and the right place to discover yourself !
URL:https://artcraftcafe.com/event/sip-and-paint/
LOCATION:Art Craft Cafe\, Front street #92\, inside Royal Palm Plaza\, Philpsburg\, Philipsburg\, 1744\, Sint Maarten
CATEGORIES:Education,Meet & Greet
ATTACH;FMTTYPE=image/jpeg:https://artcraftcafe.com/wp-content/uploads/2015/02/sip-and-paint-st-maarten-tess-flyer-upload.jpg
ORGANIZER;CN="Tess Verheij":MAILTO:tess@artcraftcafe.com
END:VEVENT
BEGIN:VEVENT
DTSTART;TZID=UTC:20190809T080000
DTEND;TZID=UTC:20190809T170000
DTSTAMP:20260425T190325
CREATED:20150210T115137Z
LAST-MODIFIED:20180216T064514Z
UID:253-1565337600-1565370000@artcraftcafe.com
SUMMARY:Hundreds of professionals across the world
DESCRIPTION:Vestibulum nec ipsum sed erat ullamcorper feugiat. Suspendisse potenti. Cum sociis natoque penatibus et magnis dis parturient montes\, nascetur ridiculus mus. Suspendisse pellentesque\, nunc et cursus blandit\, dolor leo posuere urna\, in elementum leo sem sed leo. Sed lacinia ipsum ligula\, at hendrerit risus pretium nec. Praesent vitae velit id augue ornare mollis nec vel quam. Nulla non ligula tristique\, consequat nibh non\, pellentesque nibh. Integer efficitur risus ac urna mattis maximus. Fusce egestas nisi sit amet ante dapibus maximus. \nDonec ultricies tellus orci\, quis tristique nisi lobortis sed. Donec id ex a mauris fringilla ullamcorper. Nulla magna massa\, elementum sed nibh sed\, laoreet aliquam felis. Sed ante augue\, luctus et tortor vel\, dignissim blandit nibh. Aliquam ut pretium sapien. Donec interdum est in arcu varius\, in tincidunt felis semper. Pellentesque habitant morbi tristique senectus et netus et malesuada fames ac turpis egestas. Cras at nulla eget ante fermentum eleifend. Nunc sed ultricies urna. Etiam sed augue ac tortor condimentum vestibulum vitae eu felis.
URL:https://artcraftcafe.com/event/hundreds-of-professionals-across-the-world/
LOCATION:Atlanta\, Georgia\, ghandhipuram\, coimbatore\, 98744\, India
CATEGORIES:Education
ATTACH;FMTTYPE=image/jpeg:https://artcraftcafe.com/wp-content/uploads/2015/02/event1.jpg
ORGANIZER;CN="William Dafoe":MAILTO:http://iamdesigning.com
END:VEVENT
BEGIN:VEVENT
DTSTART;TZID=UTC:20190420T080000
DTEND;TZID=UTC:20190420T170000
DTSTAMP:20260425T190325
CREATED:20150210T124251Z
LAST-MODIFIED:20180216T064538Z
UID:259-1555747200-1555779600@artcraftcafe.com
SUMMARY:Free talk discussion
DESCRIPTION:Vestibulum fermentum consequat odio at dapibus. Sed rutrum\, nunc interdum aliquam tempor\, mi elit fermentum eros\, non iaculis ante purus vitae quam. Donec condimentum malesuada metus. Maecenas consectetur sapien est\, nec rutrum orci viverra imperdiet. Etiam tortor nunc\, ullamcorper eget gravida ac\, finibus vel metus. Proin vestibulum commodo tellus\, id varius mauris pharetra in. Sed molestie magna quis dui vulputate consectetur. Nulla id lectus at elit scelerisque egestas a et purus. Maecenas sit amet sagittis neque. Praesent quis lobortis risus. Praesent ac nunc auctor\, pulvinar ante sit amet\, bibendum lacus. Vivamus tristique dolor eget augue ullamcorper\, quis euismod leo dapibus. Nulla eleifend felis non pretium placerat. Nullam non pretium enim. Maecenas velit sem\, venenatis vitae tincidunt vitae\, rutrum a neque. Morbi luctus pellentesque lectus at tempor. \nDonec mollis sed nunc eu sagittis. Fusce interdum risus vitae nisl egestas faucibus. Ut quam augue\, convallis consectetur varius sit amet\, bibendum vitae ligula. Ut magna erat\, ornare ut scelerisque sed\, sagittis at urna. Mauris molestie vehicula elit\, non interdum dui tincidunt nec. Nullam nec felis bibendum\, fringilla tortor malesuada\, malesuada nisi.
URL:https://artcraftcafe.com/event/free-talk-discussion/
LOCATION:Las Vegas\, Nevada\, Codissia\, Coimbatore\, 24785\, India
CATEGORIES:Discussion,Education,Get Together
ATTACH;FMTTYPE=image/jpeg:https://artcraftcafe.com/wp-content/uploads/2015/02/event1.jpg
ORGANIZER;CN="William Dafoe":MAILTO:http://iamdesigning.com
END:VEVENT
END:VCALENDAR